BEGIN:VCALENDAR
VERSION:2.0
PRODID:-//DJN-Kalender//kalender.naturbeobachtung.de//
BEGIN:VEVENT
SUMMARY:Kulturelle Landpartie
DTSTART;VALUE=DATE:20240509
DTEND;VALUE=DATE:20240513
DESCRIPTION:Hejho\,\n\n\n\nin zwei Wochen beginnt die Kulturelle Landparti
 e. Von Do. 09.05 bis Mo 20.05 lässt sich im Wendland bei Lüchow / Dannen
 berg an der Elbe zelten\, Fahrrad fahren und Kultur entdecken. Die KLP ist
  ein Festival\, das sich über viele Dörfer und Orte erstreckt. Es gibt K
 unstausstellungen\, Workshops\, Handwerk\, Konzerte\, Shows\, Vorträge un
 d noch viel mehr. Schaut für eine Übersicht gerne auf die offizielle KLP
  Webseite https://www.kulturelle-landpartie.de/ Alle Orte lassen sich wund
 erbar mit dem Fahrrad erreichen.\n\nUnd der DJN ist natürlich mit von der
  Partie. Wir zelten in dem Ort Meuchefitz. Auf dem Gelände der Kneipe\, i
 n der sich in den 80er Jahren die Widerstandsbewegung gegen das Atommülle
 ndlager Gorleben organisierte\, können wir kostenlos zelten. Bereits hier
  gibt es Freitag und Samstag Abend genug Musikprogramm\, Shows und Vorträ
 ge zu bewundern. Samstag um 17:00 treffen wir DJNi Lene zu ihrem Auftritt 
 mit "Honig & Hafermilch - grooving soft & lebensfroh" in der Villa Wendlan
 d. Sollte tatsächlich die Sonne scheinen gibt es kurz vor Güstriz einen 
 Badesee. In Püggen gibt es die leckere Püggener Püzza zu probieren. Meh
 r ist noch nicht geplant\, wir schauen einfach wohin es uns zieht.\n\nWenn
  du mitkommen willst dann melde dich gerne hier an oder bei:\n\nleonbohl@g
 mail.com\nMit Name\, Telefonnummer und voraussichtlicher Ankunft. \n\nAm D
 onnerstag 09.05 fahre ich von Lüneburg aus mit dem Fahrrad ins Wendland. 
 Wenn ihr euch besonders sportlich fühlt freue ich mich auf Gesellschaft. 
 Das sind 65km und ca.4h Fahrt. Ansonsten gibt es von Lüneburg aus eine Zu
 gverbindung RB32 nach Dannenberg. Man beachte aber\, dass diese an den KLP
  Wochenenden sehr voll ist und außerhalb des normalen Fahrplans fährt (!
 ) . Fahrradanhänger werden außerdem manchmal nicht mitgenommen\, wenn de
 r Zug zu voll ist. Eine Alternative ist die Zugverbindung RE20 Uelzen-Salz
 wedel.\n\nAnmeldung ist bis zum Beginn der KLP möglich\, aber es wäre to
 ll wenn ihr euch bald anmeldet\, damit ich die Essensversorgung planen kan
 n. Die KLP ist kein offizielles DJN Seminar\, da es nicht strikt um Naturb
 eobachtung geht und sie wird nicht vom Verein gefördert. Die Anfahrt erfo
 lgt auf eigene Kosten\, Kosten für Lebensmittel werden am Ende untereinan
 der aufgeteilt.\n\nPackliste:\n- ein Fahrrad (Ich habe ein Fahrrad zu verl
 eihen.)\n- ein Zelt\n- Schlafsack\, Isomatte\n- Warme Socken\n- evtl. Rege
 njacke\n- Zahnbürste und sowas\n- Trinkflasche\n- Kamera\, Fernglas\, Spo
 nti\n\nIch freu mich auf euch\nLeon
LOCATION:Wendland bei Lüchow-Dannenberg
URL:https://kalender.naturbeobachtung.de/events/10
END:VEVENT
END:VCALENDAR
