BEGIN:VCALENDAR
VERSION:2.0
PRODID:-//DJN-Kalender//kalender.naturbeobachtung.de//
BEGIN:VEVENT
SUMMARY:Exkursionswoche an der Müritz
DTSTART;VALUE=DATE:20240609
DTEND;VALUE=DATE:20240616
DESCRIPTION:Die mecklenburgische Seenplatte östlich der Müritz bietet mi
 t seinen klaren Seen\, alten Buchenwäldern\, vielfältigen Mooren und art
 enreichen Feuchtwiesen beste Vorraussetzungen für eine Woche wundervollst
 er Naturbeobachtungen. \nDie Exkursionswoche ist offen für Mitglieder von
  DJN und Lamarckzirkel\, und dient zur Vernetzung der Mitglieder beider Ve
 reine.\nWir werden auf einem naturnahen Campingplatz zelten\, dort steht u
 ns ein Gruppenzelt mit Gemeinschaftsküche zur Selbstverpflegung bereit. \
 nIm Laufe der Woche wollen wir mit Exkursionen zu Fuß\, mit Fahrrad\, und
  Kanu die Umgebung erkunden. Dabei halten wir uns selbstverständlich an d
 ie Bestimmungen der Schutzgebiete\, insbesondere des Nationalparks\, in de
 nen wir uns aufhalten.\nNatürlich ist das Programm darüber hinaus offen:
  Sponti-Runden am Lagerfeuer\, Gruppenspiele\, Workshops\, oder worauf auc
 h immer DU Lust hast.\nMitbringen: FAHRRAD\, Zeltkrams\, Fernglas\, Instru
 ment\, gute Laune...\n\n*Teilikosten kann ich noch nicht final abschätzen
 \, da die Finanzplanung noch nicht steht. Wird aber unter 100€ betragen\
 , und Fahrtkosten werden mind. 50% erstattet. Wenn ihr Knapp bei Kasse sei
 d\, sagt uns Bescheid und wir bekommen das anders hin!
LOCATION:Blankenförde\, Mecklenburg-Vorpommern
URL:https://kalender.naturbeobachtung.de/events/3
END:VEVENT
END:VCALENDAR
