BEGIN:VCALENDAR
VERSION:2.0
PRODID:-//DJN-Kalender//kalender.naturbeobachtung.de//
BEGIN:VEVENT
SUMMARY:Estland-Seminar
DTSTART;VALUE=DATE:20260628
DTEND;VALUE=DATE:20260712
DESCRIPTION:#### Tere tulemast liebe Naturbeobachter*innen! 🇪🇪\n(und
  solche\, die es noch werden wollen :)\nDiesen Sommer wollen wir gemeinsam
  Estland erkunden und DU kannst dabei sein!\n\n**Bitte lies die Seminarbes
 chreibung aufmerksam durch\, bevor du dich anmeldest**\n\nZwischen Juni un
 d Juli geht es zwei Wochen raus aus Deutschland und ab ins Baltikum. Wir e
 rkunden gemeinsam die Wälder und Moore Estlands\, wollen die Orchideenbl
 üte auf der Insel Saaremaa bewundern\, Vögel beobachten\, Libellen fange
 n\, Moose bestimmen und noch vieles mehr! Außerdem werden wir ein Paar Ta
 ge mit den lieben Menschen von TÜLKR\, dem studentischen Naturschutzclub 
 der Uni Tartu verbringen\, die uns letzten Oktober in Berlin besucht haben
 . Unsere Route führt uns per Kleinbus einmal quer durch Estland\; nachts 
 werden wir auf offiziellen Lagerplätzen zelten - direkt in der Natur!\n\n
 **Wann**: 28. Juni - 12. Juli 2026\n\nWir nehmen **insgesamt 20 Menschen i
 m Alter von 16 bis 27** Jahren mit. Dafür musst Du kein Mitglied sein\, u
 ns ist lediglich wichtig\, dass Du motiviert bist Dich einzubringen\, vera
 ntwortungsbewusst und einigermaßen geländetauglich :)\n\n**Kosten**: Der
  Teilnehmenden-Beitrag wird **unter 250 € pro Person** liegen. Das beinh
 altet alle Reise- und Unterkunfts- sowie Verpflegungskosten\, <u>AUßER</u
 > der An/Abreise zwischen Berlin und Deinem Wohnort. Sollten diese Kosten 
 Dein Budget übersteigen\, melde Dich gerne bei uns - wir möchten niemand
 en aufgrund der eigenen finanzieller Möglchkeiten ausschließen.\n\n**Anf
 ahrt**: Wir fahren gemeinsam mit dem Zug von Berlin nach Warschau (Polen) 
 und von dort per Reisebus direkt nach Estland. Solltet ihr von einem ander
 en Ort anreisen wollen\, teilt uns das bitte frühzeitig mit!\n\n**Unterbr
 ingung und Verpflegung**: Wir werden zelten! In Estland gibt es viele offi
 zielle Lagerstellen\, an denen es Wasser\, Feuerstellen und sanitäre Anla
 gen gibt. Außerdem gilt in Estland Jedermannsrecht\, das heißt wir dürf
 en grundsätzlich Wildcampen - wenn uns also ein Ort besonders gefällt\, 
 können wir spontan dort unser Lager aufschlagen. Verpflegen werden wir un
 s selbst als Gruppe.\n\n**Transport vor Ort**\nWir werden in Estland mit g
 eliehen Fahreugen unterwegs sein. Wir suchen unter den Teilnehmenden nach 
 Personen\, die einen Führerschein haben und sich vorstellen könnten\, im
  Rahmen des Seminars einen Kleinbus ("Bulli" o.Ä.) oder Kombi zu fahren. 
 Je Fahrzeug soll es zwei Fahrer*innen geben\, damit man sich abwechseln ka
 nn.\n\n**Anmeldung**\nDie Anmeldung ist geöffnet bis zum 12. April.\nFall
 s es mehr Anmeldungen als Plätze gibt\, werden die Plätze ausgelost.\nEi
 ne Rückmeldung bekommst du spätestens am 19.4.\n\n**Bei Fragen** oder An
 merkungen meldet euch gerne unter **estland@naturbeobachtung.de** :)\n\nWi
 r freuen uns auf euch! 🐻🌲🇪🇪\n\nEuer Orga-Team: Gerit\, Pelle\,
  Paul\, Stoffel & Xenia
LOCATION:Estland
URL:https://kalender.naturbeobachtung.de/events/33
END:VEVENT
END:VCALENDAR
