BEGIN:VCALENDAR
VERSION:2.0
PRODID:-//DJN-Kalender//kalender.naturbeobachtung.de//
BEGIN:VEVENT
SUMMARY:Segelseminar im Wattenmeer
DTSTART:20260712T120000Z
DTEND:20260719T130000Z
DESCRIPTION:Hoy zusammen\,\n\nauch dieses Jahr findet wieder unser naturku
 ndliches Segelseminar statt. Wir werden eine Woche lang auf der Windsbraut
  und auf der Ronja das Wattenmeer unter Segeln erleben dürfen und ganz ak
 tiv beim Schiff mit Hand anlegen. Segelerfahrung braucht ihr dafür keine.
  An Bord werden wir in Kojen übernachten und die Grundlagen im Umgang mit
  dem Schiff erlernen. Wir haben Zeit für Exkursionen\, Artenkenntnis\, Se
 gelhandwerk\, Badeausflüge\, Wattwanderungen\, Vorträge\, gemeinsames ve
 getarisches/ veganes Kochen\, Singen und Schlickschlachten.\n\nWir erwarte
 n – wie schon im letzten Jahr – mehr Anmeldungen\, als wir Plätze zur
  Verfügung haben. Am liebsten würden wir euch natürlich alle mitnehmen\
 , aber das ist leider nicht möglich. Deshalb haben wir überlegt\, wie wi
 r die Plätze möglichst fair vergeben können\, und uns für ein kleines 
 Bewerbungsverfahren entschieden. Das heißt bei der Anmeldung sollt ihr et
 was zu eurer Motivation schreiben: Das kann alles sein\, uns ist nur wicht
 ig\, dass ihr motiviert seid\, eine Wochen gemeinsam auf einem Traditionss
 egler zu verbringen und nicht kurzfristig abspringt.\n\nWie bei allen Lage
 rn des Jugendbundes für Naturbeobachtung können sich Menschen von 12 bis
  27 Jahren bewerben.\nWir wollen bewusst einen Raum schaffen\, in dem sich
  junge Menschen auf Augenhöhe begegnen\, ausprobieren und einbringen kön
 nen. So entsteht eine offene\, respektvolle Atmosphäre\, in der sich alle
  möglichst wohlfühlen können.\n\nEuer Orga Team\nTheresa\, Thea\, Maike
  & Till\n\nPS: Eindrücke von letztem Segelseminar findet ihr in unserem B
 log unter https://naturbeobachtung.de/2026/01/07/segelseminar-im-wattenmee
 r/ und auf Instagram @ab_in_die_natur
LOCATION:Husum
URL:https://kalender.naturbeobachtung.de/events/34
END:VEVENT
END:VCALENDAR
