BEGIN:VCALENDAR
VERSION:2.0
PRODID:-//DJN-Kalender//kalender.naturbeobachtung.de//
BEGIN:VEVENT
SUMMARY:Seminar vor den Alpen
DTSTART;VALUE=DATE:20260621
DTEND;VALUE=DATE:20260626
DESCRIPTION:Hoy liebe Naturbeobachter*innen und solche die es noch werden 
 wollen!\n\nDie Ammer ist nicht nur ein Vogel sondern auch ein kleines Flü
 sschen\, das in den oberbayerischen Alpen entspringt. \nIn ihrem Tal birgt
  sich eine spannende Landschaft aus Mooren\, Weiden und Schluchten und hie
 r wollen wir uns auf Entdeckungssuche machen nach interessanten Pflanzen\,
  Tieren und Pilzen. \n\nUntergebracht sein werden wir im Jugendbergheim in
  Unterammergau - wer sich schon mal ein Bild machen möchte\, kann das hie
 r : https://www.lk-starnberg.de/B%C3%BCrgerservice/Jugend-und-Familie/Frei
 zeit/Jugendbergheim/ \nUnsere gemütliche Unterkunft bietet Raum für viel
  Geselligkeit und Gruppenaktivitäten\, aber auch individuelle Rückzugsm
 öglichkeiten. Jeden Abend werden wir zusammen kochen\, wobei es immer ein
 e vegane Option geben wird. An der Unterkunft gibt es eine Feuerstelle\, i
 deale Voraussetzung für gemeinsame Singrunden. \n\nGanz wichtig: Fahrrad 
 mitbringen!\nViele Ausflugsziele sind am besten mit dem Rad zu erreichen. 
 Wenn das für euch gar nicht möglich ist\, versuchen wir gemeinsam eine L
 ösung zu finden. Fahrradtickets werden wir vollständig erstatten.\n\nWie
  üblich werden wir Teile eurer Fahrtkosten erstatten können. \n\nWir fre
 uen uns auf dich!\n\nRahmeninfos:\n21.-26.06. in Unterammergau\, Bayern\nU
 nterkunft im Jugendbergheim\n25 Teilnehmende\, Alter 12-27 Jahre\nKosten: 
 Voraussichtlich 8 € / Tag + 40 € Fahrtkostenpauschale\, 15 € Aufschl
 ag für Nicht-Mitglieder\nTeile der Fahrtkosten können erstattet werden!\
 nAnmeldung über kalender.naturbeobachtung.de/events/35
LOCATION:Unterammergau
URL:https://kalender.naturbeobachtung.de/events/35
END:VEVENT
END:VCALENDAR
