BEGIN:VCALENDAR
VERSION:2.0
PRODID:-//DJN-Kalender//kalender.naturbeobachtung.de//
BEGIN:VEVENT
SUMMARY:Schweden-Seminar
DTSTART;VALUE=DATE:20260821
DTEND;VALUE=DATE:20260830
DESCRIPTION:**Hoy liebe Leute** 😊\, \n\nIm August wollen wir gemeinsam 
 die wunderschöne schwedische Seenlandschaft rund um den Dalsland-Kanal en
 tdecken. Mit Kanus und zu Fuß erkunden wir Wälder\, Seen\, Inseln und hi
 storische Stätten. Unterwegs und an unseren Übernachtungsplätzen werden
  wir die Natur der Region kennenlernen und dabei viele verschiedene Arten 
 sehen und bestimmen. Neben der Natur und Ökologie beschäftigen wir uns m
 it der Geschichte und Kultur Schwedens\, sowie der historischen Provinz Da
 lsland. \nNeben spannenden Exkursionen und Inhalten bleibt natürlich auch
  genug Zeit\, um die Natur hautnah zu erleben und die gemeinsamen Tage zu 
 genießen. Wir werden paddeln\, wandern\, baden\, Blaubeeren und Pilze sam
 meln\, gemeinsam kochen\, lecker essen und abends gemütlich am Lagerfeuer
  zusammensitzen und singen.\n\n**Anreise**\n\nWir starten am Freitag\, den
  21.08.2026\, am Abend vom Hamburger Hauptbahnhof. Mit einem Nachtzug fahr
 en wir nach Schweden und erreichen – nach zwei Umstiegen – am Samstagn
 achmittag Bengtsfors\, den Startpunkt unserer Tour.\n\n**Abreise**\n\nAm 2
 9.08.2026 steigen wir am Nachmittag in Bengtsfors wieder in den Zug. Am 30
 .08. kommen wir morgens wieder am Hamburger Hauptbahnhof an\, sodass alle 
 noch am selben Tag weiter nach Hause reisen können.\n\n**Unsere Tour**\n\
 nNach unserer Ankunft in Bengtsfors\, werden wir auf Kanus umsteigen und u
 ns den ersten schönen Übernachtungsplatz suchen :). Die Woche lang padde
 ln wir über die Seen und entlang des Dalslandkanals. Dabei legen wir sich
 erlich einige Kilometer zurück\, geplant ist aber auch mal länger an ein
 em Ort verweilen\, um Exkursionen zu Fuß ins Hinterland der Seen zu unter
 nehmen. Übernachten werden wir in Zelten oder in den dort verfügbaren Sh
 eltern mit Lagerfeuerstelle und schwedischem Plumpsklo :D. \n\n**Inhalte d
 es Seminars**\n\nIm Mittelpunkt stehen Artenkunde\, Ökologie und Kulturla
 ndschaftsgeschichte des Dalsland-Kanals\, sowie schwedische/ samische Gesc
 hichte und Kultur. Ein Teil der Inhalte wird auch durch kleine Beiträge o
 der Workshops der Teilnehmenden gestaltet.\n\n**Was wir uns von dir wünsc
 hen**\n\nFür die Teilnahme wünschen wir uns eine gewisse körperliche Fi
 tness\, um längere Kanu- oder Wanderstrecken bewältigen zu können. Auß
 erdem freuen wir uns über die Bereitschaft\, einen kleinen Workshop oder 
 Beitrag zu den Seminarinhalten vorzubereiten.\n\n**Kosten**\n\nDer Seminar
 beitrag wird voraussichtlich zwischen 100 und 150 € liegen (inkl. Verpfl
 egung\, ab Hamburg). Ob wir auch Fahrtkosten nach Hamburg erstatten könne
 n\, steht noch nicht fest.\nWenn du diesen Betrag auf keinen Fall aufbring
 en kannst\, melde dich bitte trotzdem bei uns. Wir finden eine Lösung –
  Geld soll kein Hindernis für die Teilnahme sein.\n\n**Da die Reise ins A
 usland führt\, beträgt das Mindestalter für die Teilnahme 16 Jahre.**\n
 \n\nLiebe Grüße\n\nEure LaLeis Anna\, Maike & Paul 🌲🫎🇸🇪
LOCATION:Schweden
URL:https://kalender.naturbeobachtung.de/events/36
END:VEVENT
END:VCALENDAR
