BEGIN:VCALENDAR
VERSION:2.0
PRODID:-//DJN-Kalender//kalender.naturbeobachtung.de//
BEGIN:VEVENT
SUMMARY:DJN Sommerlager
DTSTART;VALUE=DATE:20260731
DTEND;VALUE=DATE:20260809
DESCRIPTION:Dieses Jahr gibt es ein besonderes Highlight im DJN-Kalender: 
 ein großes Sommer-Bundeslager mit viel Zeit für Naturkunde\, Gemeinschaf
 t und sommerhaftes Lagerleben.\n\nUnser Lager findet in der wunderschönen
  Umgebung von Harzgerode statt\, ein perfekter Ort um draußen unterwegs z
 u sein\, zur Ruhe zu kommen und gleichzeitig Neues zu entdecken.\n\nEgal o
 b du schon lange beim DJN bist oder ganz neu dazukommst: Du bist herzlich 
 willkommen! Auch Familien mit Kindern und ehemaliges DJNis können teilneh
 men. Das Lager richtet sich auch explizit an Menschen\, die den DJN neu ke
 nnenlernen wollen!\n\nWas erwartet dich?\n	•	gemeinsames Naturkundeln\n	
 •	Lagerfeuerabende mit Musik und Gesang\n	•	Austausch mit alten und ne
 uen DJNis\n	•	Workshops\, AGs und Kreatives \n\nWie üblich gibt es kein
  festes Pflichtprogramm\, ihr könnt mitmachen und beitragen worauf ihr Lu
 st habt :)\n\nOrganisatorisches:\n	•	Ihr braucht ein Zelt oder Auto/Camp
 er (wenn ihr kein Zelt habt\, sagt uns rechtzeitig Bescheid)\n	•	Eine Te
 ilnahme ist auch für einen kürzeren Zeitraum möglich\n	•	Bitte meldet
  jede Person einzeln an\, auch Kinder\n\nBei Fragen oder Anregungen meldet
  euch unter buvo@naturbeobachtung.de\n\nWir freuen uns auf euch!\nLiebe Gr
 üße\,\nEure Lagerleitung <3\n\nPaul\, Gerit und Theresa
LOCATION:Harzgerode\, Sachsen-Anhalt
URL:https://kalender.naturbeobachtung.de/events/37
END:VEVENT
END:VCALENDAR
