BEGIN:VCALENDAR
VERSION:2.0
PRODID:-//DJN-Kalender//kalender.naturbeobachtung.de//
BEGIN:VEVENT
SUMMARY:Blumenwiesen in der Rhön
DTSTART;VALUE=DATE:20260517
DTEND;VALUE=DATE:20260524
DESCRIPTION:Wir wollen in der Rhön\, dem "Land der offenen Fernen" eine W
 oche lang wundervolle Blumenwiesen anschauen!\nDort finden wir noch heute 
 eine historisch gewachsene Kulturlandschaft\, die unter anderem durch die 
 Auszeichnung als UNESCO Biosphärenreservat geschützt wird.\nHier ist heu
 te noch eine große Vielfalt artenreicher Grünlandgesellschaften - hübsc
 he Blumenwiesen also - zu finden: Berg-Mähwiesen\, Flachland-Mähwiesen\,
  Kalk-Trockenrasen\, Borstgrasrasen\, Zwergstrauchheiden\, Pfeiffengraswie
 sen\, Sumpfdotterblumen-Wiesen...\nJeden Tag soll eine andere Blumenwiese 
 im Fokus stehen\, und wir wollen die Flora und Fauna einer Wiese unter die
  Lupe nehmen.\nNatürlich bleibt zwischendurch auch Zeit für weitere Erku
 ndungen\, z.B. ins Schwarze Moor oder auch andere DJN-typische Freizeitges
 taltung :)\n\nWir sind in der Woche auf zwei verschiedenen Jugendzeltplät
 zen untergebracht: Auf dem Jugendzeltplatz Himmeldunkberg (17.-21.5.) und 
 dem Jugendzeltplatz Totnansberg (21.-24.5.). Es ist dort jeweils möglich 
 zu zelten\, oder im Matratzenlager zu schlafen. Die zweite Unterkunft ist 
 knapp 5km von der nächsten Bushaltestelle entfernt. Packt also euer Gepä
 ck so\, dass ihr damit diese kleine Wanderung schafft. Außerdem bitte bei
  der Buchung der Tickets beachten \;)\n\nAnreise: 17.5.\, ab mittags nach:
 \nOberweißenbrunn Scholze-Brunnen\, Bischofsheim a.d.\n(Bus 810 ab Bhf Ba
 d Neustadt a.d. Saale)\n\nAbreise\n24.5. \nLangenleiten Lindenstr.\n(Bus 7
 91 nach Bhf. Bad Kissingen)
LOCATION:Oberweissenbrunn\, Bayern
URL:https://kalender.naturbeobachtung.de/events/38
END:VEVENT
END:VCALENDAR
