BEGIN:VCALENDAR
VERSION:2.0
PRODID:-//DJN-Kalender//kalender.naturbeobachtung.de//
BEGIN:VEVENT
SUMMARY:Vogelkiek Seminar
DTSTART:20260506T100000Z
DTEND:20260510T130000Z
DESCRIPTION:Moin liebe DJNies und Freiwillige! \nDer Hauke-Haien-Koog ist 
 eines der wichtigsten Hochwasser Rastgebiete Mitteleuropas und beherbergt 
 dazu auch noch lauter spannende Brutvögel\, Pflanzen\, Insekten und was a
 uch immer Dich interessiert! Die Veranstaltung soll ein wenig FÖJ/BFD und
  DJN verbinden\, drum sind Anmeldungen aus beiden Reihen sehr erwünscht.\
 nDie Kosten sind noch nicht fest\, sollten aber bei ca. 7 € / Tag liegen
 . Fahrtkosten werden teilweise zurückerstattet (Fahrradtickets auch volls
 tändig)\, es gibt hier wie gewohnt aber auch eine Fahrtkostenpauschale vo
 n 25 €.\n\nVorwarnung: Wir werden in Schlüttsiel Zelten\, und auch drau
 ßen kochen. Dementsprechend min. Isomatte und Schlafsack einpacken\, gern
 e auch ein Zelt oder anderes Camping Zubehör. Wir haben direkt hier Klos 
 in Fußentfernung\, jedoch sind die Duschmöglichkeiten etwas eingeschrän
 kt. Ich konnte ca. 5 Duschen / Tag erringen auf einem naheliegenden Stellp
 latz in Ockholm (etwa 15-20 min mit dem Rad)\, alternativ kann man aber au
 ch ins Mittelbecken springen.\n\nEin Fahrrad ist sinnvoll\, aber nicht zwi
 ngend notwendig. Wir können zur Not schlechte Räder verleihen\, und aufg
 rund der Lage auch viel in Fußnähe machen\, aber ein Ausflug in den bspw
 . Beltringharder Koog wär deutlich einfacher mit Rad! Ich kann einen Gep
 äck/Personen-Shuttle nach entweder Dagebüll oder Langenhorn einrichten (
 für An- und Abreise).
LOCATION:Hauke-Haien-Koog\, Schleswig-Holstein
URL:https://kalender.naturbeobachtung.de/events/39
END:VEVENT
END:VCALENDAR
