BEGIN:VCALENDAR
VERSION:2.0
PRODID:-//DJN-Kalender//kalender.naturbeobachtung.de//
BEGIN:VEVENT
SUMMARY:Pilzseminar
DTSTART;VALUE=DATE:20260901
DTEND;VALUE=DATE:20260920
DESCRIPTION:Anfang oder Mitte September wird es im Schwarzwald wieder ein 
 Pilzseminar geben\, auf dem wir alle möglichen Pilze bestimmen und (falss
  essbar) auch sammeln wollen. Ort und genauer Zeitraum stehen noch nicht f
 est\, die Infos folgen aber bald.
LOCATION:Schwarzwald
URL:https://kalender.naturbeobachtung.de/events/42
END:VEVENT
END:VCALENDAR
