BEGIN:VCALENDAR
VERSION:2.0
PRODID:-//DJN-Kalender//kalender.naturbeobachtung.de//
BEGIN:VEVENT
SUMMARY:Gemeinsam zum Wilde Möhre Festival
DTSTART:20260821T130000Z
DTEND:20260824T140000Z
DESCRIPTION:Ein paar festivalbegeisterte Menschen haben gedacht: wie schö
 n wäre es mit noch mehr netten Menschen zu campen\, zu feiern und Musik z
 u genießen. Also warum nicht in DJN Kreisen mal nachfragen\, vielleicht f
 inden sich noch mehr begeisterte und tanzwütige! \;)\n\nDas wilde Möhre 
 Festival findet jedes Jahr in der Natur statt und verbindet elektronische 
 Musik\, Kunst\, Workshops\, Kultur und gemeinschaftliches Campen zu einem 
 besonderen Erlebnis. Mehr Infos findet ihr auf der Website: https://wildem
 oehrefestival.de\n\nWir wollen dort gemeinsam als Gruppe hinfahren\, zusam
 men planen und eine schöne Zeit miteinander verbringen. Wichtig: Um ein T
 icket müsst ihr euch selbst kümmern. Aktuell gibt es noch Solitickets\, 
 also schaut dafür bitte direkt auf der Festival-Website.\n\nAuch um eure 
 eigene Campingausrüstung müsst ihr euch kümmern:  \nZelt\, Isomatte\, S
 chlafsack\, Verpflegung und alles\, was ihr für ein Festivalwochenende br
 aucht.\n\nUnsere Idee ist aber\, als Gruppe gemeinsam vorzubereiten:  \nVi
 elleicht finden wir noch ein großes Zelt für mehrere Leute\, organisiere
 n eine mobile Campingküche\, bringen Camping-Accessoires mit oder es find
 et sich jemand\, der Lust hat für die Gruppe zu kochen. Mit vielen unters
 chiedlichen Menschen entstehen oft die schönsten und unvergesslichsten Fe
 stivalmomente. <3\n\nWer Lust hat mitzukommen\, kann sich hier anmelden un
 d optional ein paar Fragen für eine bessere Orga beantworten. Danach teil
 en wir einen Gruppenlink für die gemeinsame Planung\, damit wir uns austa
 uschen\, organisieren und Ideen sammeln können. Auch wenn ihr Fragen habt
  oder zum ersten Mal auf ein Festival fahrt\, sind wir gerne da und unters
 tützen euch.\n\nWir freuen uns auf eine bunte Gruppe toller Menschen\, di
 e Lust haben gemeinsam zu planen\, zu campen und zu feiern! ✨\n\nWichtig
 : Die Fahrt wird nicht offiziell vom DJN organisiert oder unterstützt. Tr
 otzdem möchten wir die Werte des DJN leben und mit einer Gruppe fahren\, 
 in der sich alle wohlfühlen und eine respektvolle\, schöne Festivalerfah
 rung möglich ist.\n\nWir freuen uns!\nIliana\, Max & Theresa
LOCATION:Festivalgelände Wilde Möhre\, Drebkau (Brandenburg)
URL:https://kalender.naturbeobachtung.de/events/43
END:VEVENT
END:VCALENDAR
