BEGIN:VCALENDAR
VERSION:2.0
PRODID:-//DJN-Kalender//kalender.naturbeobachtung.de//
BEGIN:VEVENT
SUMMARY:Schorfheide-/Grumsin-Seminar
DTSTART:20260906T160000Z
DTEND:20260912T080000Z
DESCRIPTION:Hallo liebe DJNies und die es noch werden wollen\,\nMitte Sept
 ember geht es eine Woche lang ins Biosphärenreservat Schorfheide-Chorin i
 n der Uckermark. Vom wunderschönen Campingplatz am Wolletzsee aus erreich
 en wir nicht nur eine ganze Reihe an spannenden artenreichen Offenlandscha
 ften\, sondern auch Hutewaldstrukturen mit Eiche und das Unesco-Weltnature
 rbe Buchenwald Grumsin\, in dem Urwald-Reliktarten auf ihre Kosten kommen 
 und in dem wir eine natürliche Waldstruktur und -atmosphäre bestaunen k
 önnen. \nAußerdem warten viele Seen auf genaue Erforschung durch Natursc
 hutzfans in Badesachen. (Der Campingplatz hat auch einen Seezugang.)\nUnte
 rkommen werden wir wie gesagt auf einem Campingplatz und werden auch drau
 ßen kochen\, essen und Abende verbringen. Auf die Packliste gehören also
  neben Isomatte\, Schlafsack und (falls vorhanden) Zelt auch warme wetterf
 este Kleidung (man weiß ja nie im September) und eure coolsten Camping-Ga
 dgets. \nZumindest für einige Ausflugsziele sind Fahrräder relativ unent
 behrlich - wenn eure Anreise nicht allzu weit ist\, deshalb gerne das eige
 ne mitbringen. \nWer keins hat\, dem*r leihen wir eins von einem Fahrradve
 rleih in Angermünde.\nDie Fahrtkosten (Hin- und Rückfahrt inkl. Fahrradt
 icket) versuchen wir auf 20 Euro zu deckeln\, eine Fahrtkostenpauschale gi
 bt es diesmal nicht. Die allgemeinen Kosten stehen noch nicht endgültig f
 est\, sollten aber zwischen 7.50 und 8.50 Euro pro Tag liegen. \n(Bildnach
 weis: Helen Münnich)
LOCATION:Angermünde
URL:https://kalender.naturbeobachtung.de/events/45
END:VEVENT
END:VCALENDAR
